Workbook

Sheet I anno
B1: Quadro orario ed organico proposta progettuale a.s. 2027-2028 | T1: SI
B2: N.B. Per la compilazione si raccomanda di visualizzare i commenti inseriti nelle intestazioni di colonna DEVONO essere compilate esclusivamente le celle evidenziate con il colore verde Si prega di NON modificare o cancellare nessuna cella dei fogli di calcolo | T2: NO
B3: I ANNO ORE SETTIMANALI EROGATE | D3: Denominazione Istituzione Scolastica | H3: Denominazione indirizzo quadriennale | K3: Codice indirizzo quadriennale
A4: A. | B4: Area generale | H4: Articolazione/ Declinazione | K4: Codice ATECO | M4: Eventuali interventi (in ore settimanali) di esperti esterni in attività curricolari
B5: Denominazione | D5: Docenza cattedra (ore) | E5: Classe di Concorso (A) | F5: Compresenza ordinamentale (ITP) | G5: Classe di Concorso (B) | H5: Codocenza non ordinamentale (proposta progettuale) | I5: Classe di Concorso (A o B) | J5: Totale Organico (h settimanali) | K5: Note | M5: Compresenti | N5: 'titolari' singoli di insegnamento
B6: Inserire la denominazione corretta e completa di tutte le discipline previste nell’area generale del proprio percorso di studi. | D6: Inserire il numero di ore settimanale previsto per la corrispondente disciplina. | E6: Inserire il numero di ore settimanale previsto per la corrispondente disciplina. | F6: Inserire il numero di ore settimanale previsto per la corrispondente disciplina. | G6: Inserire la classe di concorso di insegnate tecnico pratico, prevista per la corrispondente disciplina. | H6: Inserire eventuali ore di codocenza frutto della specifica proposta progettuale. | I6: Trattandosi di ore non ordinamentali, ma maturate dalla proposta progettuale, possono essere svolte da docenti posto ordinario (c.c. A) sia da Insegnanti Tecnico Pratici (c.c. B). | N6: Laddove non compresenti.
B7: Disciplina 1 | D7: 0 | F7: 0 | H7: 0 | J7: =D7+F7+H7 -> 0
B8: Disciplina 2 | D8: 0 | F8: 0 | H8: 0 | J8: =D8+F8+H8 -> 0
B9: Disciplina 3 | D9: 0 | F9: 0 | H9: 0 | J9: =D9+F9+H9 -> 0
B10: Disciplina 4 | D10: 0 | F10: 0 | H10: 0 | J10: =D10+F10+H10 -> 0
B11: Disciplina 5 | D11: 0 | F11: 0 | H11: 0 | J11: =D11+F11+H11 -> 0
B12: Disciplina 6 | D12: 0 | F12: 0 | H12: 0 | J12: =D12+F12+H12 -> 0
B13: Disciplina 7 | D13: 0 | F13: 0 | H13: 0 | J13: =D13+F13+H13 -> 0
B14: Disciplina 8 | D14: 0 | F14: 0 | H14: 0 | J14: =D14+F14+H14 -> 0
B15: Disciplina 9 | D15: 0 | F15: 0 | H15: 0 | J15: =D15+F15+H15 -> 0
B16: Disciplina 10 | D16: 0 | F16: 0 | H16: 0 | J16: =D16+F16+H16 -> 0
B17: Disciplina 11 | D17: 0 | F17: 0 | H17: 0 | J17: =D17+F17+H17 -> 0
B18: Disciplina 12 | D18: 0 | F18: 0 | H18: 0 | J18: =D18+F18+H18 -> 0
... B20: Disciplina 14 | D20: 0 | F20: 0 | H20: 0 | J20: =D20+F20+H20 -> 0
C21: Totale area generale | D21: =SUM(D7:D20) -> 0 | F21: =SUM(F7:F20) -> 0 | H21: =SUM(H7:H20) -> 0 | J21: =D21+F21+H21 -> 0 | M21: =SUM(M7:M20) -> 0 | N21: =SUM(N7:N20) -> 0
A23: B. | B23: Area indirizzo | M23: Eventuali interventi (in ore settimanali) di esperti esterni in attività curricolari
B24: Denominazione | D24: Docenza cattedra (ore) | E24: Classe di Concorso (A o B) | F24: Compresenza ordinamentale (ITP) | G24: Classe di Concorso (B) | H24: Codocenza non ordinamentale (proposta progettuale) | I24: Classe di Concorso (A o B) | J24: Totale Organico (h settimanali) | K24: Note | M24: Compresenti | N24: 'titolari' singoli di insegnamento
B25: Inserire la denominazione corretta e completa di tutte le discipline previste nell’area di indirizzo del proprio percorso di studi. | D25: Inserire il numero di ore settimanale previsto per la corrispondente disciplina. | E25: Inserire il numero di ore settimanale previsto per la corrispondente disciplina. | F25: Inserire il numero di ore settimanale previsto per la corrispondente disciplina. | G25: Inserire la classe di concorso di insegnate tecnico pratico, prevista per la corrispondente disciplina. | H25: Inserire eventuali ore di codocenza frutto della specifica proposta progettuale. | I25: Trattandosi di ore non ordinamentali, ma maturate dalla proposta progettuale, possono essere svolte da docenti posto ordinario (c.c. A) sia da Insegnanti Tecnico Pratici (c.c. B). | N25: Laddove non compresenti.
B26: Disciplina 1 | D26: 0 | F26: 0 | H26: 0 | J26: =D26+F26+H26 -> 0
B27: Disciplina 2 | D27: 0 | F27: 0 | H27: 0 | J27: =D27+F27+H27 -> 0
B28: Disciplina 3 | D28: 0 | F28: 0 | H28: 0 | J28: =D28+F28+H28 -> 0
B29: Disciplina 4 | D29: 0 | F29: 0 | H29: 0 | J29: =D29+F29+H29 -> 0
B30: Disciplina 5 | D30: 0 | F30: 0 | H30: 0 | J30: =D30+F30+H30 -> 0
B31: Disciplina 6 | D31: 0 | F31: 0 | H31: 0 | J31: =D31+F31+H31 -> 0
B32: Disciplina 7 | D32: 0 | F32: 0 | H32: 0 | J32: =D32+F32+H32 -> 0
B33: Disciplina 8 | D33: 0 | F33: 0 | H33: 0 | J33: =D33+F33+H33 -> 0
B34: Disciplina 9 | D34: 0 | F34: 0 | H34: 0 | J34: =D34+F34+H34 -> 0
B35: Disciplina 10 | D35: 0 | F35: 0 | H35: 0 | J35: =D35+F35+H35 -> 0
B36: Disciplina 11 | D36: 0 | F36: 0 | H36: 0 | J36: =D36+F36+H36 -> 0
B37: Disciplina 12 | D37: 0 | F37: 0 | H37: 0 | J37: =D37+F37+H37 -> 0
... B39: Disciplina 14 | D39: 0 | F39: 0 | H39: 0 | J39: =D39+F39+H39 -> 0
C40: Totale area indirizzo | D40: =SUM(D26:D39) -> 0 | F40: =SUM(F26:F39) -> 0 | H40: =SUM(H26:H39) -> 0 | J40: =SUM(J26:J39) -> 0 | M40: =SUM(M26:M39) -> 0 | N40: =SUM(N26:N39) -> 0
C42: Totale ore settimanali (area generale e indirizzo) erogate (didattica fruita dagli studenti) | D42: =D21+D40 -> 0 | J42: =J40+J21 -> 0 | K42: TOTALE ORGANICO Totale ore settimanali per la prima annualità (al netto dei progetti di filiera)
A45: C. | B45: Eventuali ulteriori attività curricolari (aggiuntive rispetto a quelle riportate sopra)
D46: Ulteriori ORE ANNUE EROGATE (ulteriori rispetto a orario didattico settimanale fisso di cui sopra)
B47: Progetti/Attività | D47: Ore totali nell'annualità | E47: Serve organico dedicato (SI/NO) | F47: Se sì: Classe di Concorso (A o B) | G47: Ore annuali organico | H47: Note
D48: Se realizzati con ore di organico in assegnazione avere cura che i totali siano multipli di 33.
B49: Progetto1 | D49: 0 | G49: =IF(E49="SI",D49,0) -> 0
B50: Progetto2 | D50: 0 | G50: =IF(E50="SI",D50,0) -> 0
B51: Progetto3 | D51: 0 | G51: =IF(E51="SI",D51,0) -> 0
B52: Progetto4 | D52: 0 | G52: =IF(E52="SI",D52,0) -> 0
B53: Progetto5 | D53: 0 | G53: =IF(E53="SI",D53,0) -> 0
B54: Progetto6 | D54: 0 | G54: =IF(E54="SI",D54,0) -> 0
B55: Progetto7 | D55: 0 | G55: =IF(E55="SI",D55,0) -> 0
C56: Totale ore progetti | D56: =SUM(D49:D55) -> 0 | G56: =SUM(G49:G55) -> 0
C58: Ore annuali totali di Formazione Scuola-Lavoro (FSL) ore totali annualità | F58: Di cui eventuali ore annuali di FSL effettuate al di fuori dell'orario settimanale (D40) e al di fuori del calendario scolastico di cui alla D58
C61: N. settimane previste dal calendario scolastico di progetto
C63: Area generale + indirizzo (ore) | D63: =D42*D61 -> 0 | E63: annue
C65: Altri progetti/attività curricolari (ore) | D65: =D56 -> 0 | E65: annue
C67: FSL (ore) | D67: =G58 -> 0 | E67: annue
B69: TOTALE GENERALE ANNUO (ore fruite dagli studenti) | D69: =D63+D65+D67 -> 0

Sheet II anno
B1: Quadro orario ed organico proposta progettuale a.s. 2027-2028 | T1: SI
B2: N.B. Per la compilazione si raccomanda di visualizzare i commenti inseriti nelle intestazioni di colonna DEVONO essere compilate esclusivamente le celle evidenziate con il colore verde Si prega di NON modificare o cancellare nessuna cella dei fogli di calcolo | T2: NO
B3: II ANNO ORE SETTIMANALI EROGATE | D3: Denominazione Istituzione Scolastica | H3: Denominazione indirizzo quadriennale | K3: Codice indirizzo quadriennale
A4: A. | B4: Area generale | H4: Articolazione/ Declinazione | K4: Codice ATECO | M4: Eventuali interventi (in ore settimanali) di esperti esterni in attività curricolari
B5: Denominazione | D5: Docenza cattedra (ore) | E5: Classe di Concorso (A) | F5: Compresenza ordinamentale (ITP) | G5: Classe di Concorso (B) | H5: Codocenza non ordinamentale (proposta progettuale) | I5: Classe di Concorso (A o B) | J5: Totale Organico (h settimanali) | K5: Note | M5: Compresenti | N5: 'titolari' singoli di insegnamento
B6: Inserire la denominazione corretta e completa di tutte le discipline previste nell’area generale del proprio percorso di studi. | D6: Inserire il numero di ore settimanale previsto per la corrispondente disciplina. | E6: Inserire il numero di ore settimanale previsto per la corrispondente disciplina. | F6: Inserire il numero di ore settimanale previsto per la corrispondente disciplina. | G6: Inserire la classe di concorso di insegnate tecnico pratico, prevista per la corrispondente disciplina. | H6: Inserire eventuali ore di codocenza frutto della specifica proposta progettuale. | I6: Trattandosi di ore non ordinamentali, ma maturate dalla proposta progettuale, possono essere svolte da docenti posto ordinario (c.c. A) sia da Insegnanti Tecnico Pratici (c.c. B). | N6: Laddove non compresenti.
B7: Disciplina 1 | D7: 0 | F7: 0 | H7: 0 | J7: =D7+F7+H7 -> 0
B8: Disciplina 2 | D8: 0 | F8: 0 | H8: 0 | J8: =D8+F8+H8 -> 0
B9: Disciplina 3 | D9: 0 | F9: 0 | H9: 0 | J9: =D9+F9+H9 -> 0
B10: Disciplina 4 | D10: 0 | F10: 0 | H10: 0 | J10: =D10+F10+H10 -> 0
B11: Disciplina 5 | D11: 0 | F11: 0 | H11: 0 | J11: =D11+F11+H11 -> 0
B12: Disciplina 6 | D12: 0 | F12: 0 | H12: 0 | J12: =D12+F12+H12 -> 0
B13: Disciplina 7 | D13: 0 | F13: 0 | H13: 0 | J13: =D13+F13+H13 -> 0
B14: Disciplina 8 | D14: 0 | F14: 0 | H14: 0 | J14: =D14+F14+H14 -> 0
B15: Disciplina 9 | D15: 0 | F15: 0 | H15: 0 | J15: =D15+F15+H15 -> 0
B16: Disciplina 10 | D16: 0 | F16: 0 | H16: 0 | J16: =D16+F16+H16 -> 0
B17: Disciplina 11 | D17: 0 | F17: 0 | H17: 0 | J17: =D17+F17+H17 -> 0
B18: Disciplina 12 | D18: 0 | F18: 0 | H18: 0 | J18: =D18+F18+H18 -> 0
... B20: Disciplina 14 | D20: 0 | F20: 0 | H20: 0 | J20: =D20+F20+H20 -> 0
C21: Totale area generale | D21: =SUM(D7:D20) -> 0 | F21: =SUM(F7:F20) -> 0 | H21: =SUM(H7:H20) -> 0 | J21: =D21+F21+H21 -> 0 | M21: =SUM(M7:M20) -> 0 | N21: =SUM(N7:N20) -> 0
A23: B. | B23: Area indirizzo | M23: Eventuali interventi (in ore settimanali) di esperti esterni in attività curricolari
B24: Denominazione | D24: Docenza cattedra (ore) | E24: Classe di Concorso (A o B) | F24: Compresenza ordinamentale (ITP) | G24: Classe di Concorso (B) | H24: Codocenza non ordinamentale (proposta progettuale) | I24: Classe di Concorso (A o B) | J24: Totale Organico (h settimanali) | K24: Note | M24: Compresenti | N24: 'titolari' singoli di insegnamento
B25: Inserire la denominazione corretta e completa di tutte le discipline previste nell’area di indirizzo del proprio percorso di studi. | D25: Inserire il numero di ore settimanale previsto per la corrispondente disciplina. | E25: Inserire il numero di ore settimanale previsto per la corrispondente disciplina. | F25: Inserire il numero di ore settimanale previsto per la corrispondente disciplina. | G25: Inserire la classe di concorso di insegnate tecnico pratico, prevista per la corrispondente disciplina. | H25: Inserire eventuali ore di codocenza frutto della specifica proposta progettuale. | I25: Trattandosi di ore non ordinamentali, ma maturate dalla proposta progettuale, possono essere svolte da docenti posto ordinario (c.c. A) sia da Insegnanti Tecnico Pratici (c.c. B). | N25: Laddove non compresenti.
B26: Disciplina 1 | D26: 0 | F26: 0 | H26: 0 | J26: =D26+F26+H26 -> 0
B27: Disciplina 2 | D27: 0 | F27: 0 | H27: 0 | J27: =D27+F27+H27 -> 0
B28: Disciplina 3 | D28: 0 | F28: 0 | H28: 0 | J28: =D28+F28+H28 -> 0
B29: Disciplina 4 | D29: 0 | F29: 0 | H29: 0 | J29: =D29+F29+H29 -> 0
B30: Disciplina 5 | D30: 0 | F30: 0 | H30: 0 | J30: =D30+F30+H30 -> 0
B31: Disciplina 6 | D31: 0 | F31: 0 | H31: 0 | J31: =D31+F31+H31 -> 0
B32: Disciplina 7 | D32: 0 | F32: 0 | H32: 0 | J32: =D32+F32+H32 -> 0
B33: Disciplina 8 | D33: 0 | F33: 0 | H33: 0 | J33: =D33+F33+H33 -> 0
B34: Disciplina 9 | D34: 0 | F34: 0 | H34: 0 | J34: =D34+F34+H34 -> 0
B35: Disciplina 10 | D35: 0 | F35: 0 | H35: 0 | J35: =D35+F35+H35 -> 0
B36: Disciplina 11 | D36: 0 | F36: 0 | H36: 0 | J36: =D36+F36+H36 -> 0
B37: Disciplina 12 | D37: 0 | F37: 0 | H37: 0 | J37: =D37+F37+H37 -> 0
... B39: Disciplina 14 | D39: 0 | F39: 0 | H39: 0 | J39: =D39+F39+H39 -> 0
C40: Totale area indirizzo | D40: =SUM(D26:D39) -> 0 | F40: =SUM(F26:F39) -> 0 | H40: =SUM(H26:H39) -> 0 | J40: =SUM(J26:J39) -> 0 | M40: =SUM(M26:M39) -> 0 | N40: =SUM(N26:N39) -> 0
C42: Totale ore settimanali (area generale e indirizzo) erogate (didattica fruita dagli studenti) | D42: =D21+D40 -> 0 | J42: =J40+J21 -> 0 | K42: TOTALE ORGANICO Totale ore settimanali per la prima annualità (al netto dei progetti di filiera)
A45: C. | B45: Eventuali ulteriori attività curricolari (aggiuntive rispetto a quelle riportate sopra)
D46: Ulteriori ORE ANNUE EROGATE (ulteriori rispetto a orario didattico settimanale fisso di cui sopra)
B47: Progetti/Attività | D47: Ore totali nell'annualità | E47: Serve organico dedicato (SI/NO) | F47: Se sì: Classe di Concorso (A o B) | G47: Ore annuali organico | H47: Note
D48: Se realizzati con ore di organico in assegnazione avere cura che i totali siano multipli di 33.
B49: Progetto1 | D49: 0 | G49: =IF(E49="SI",D49,0) -> 0
B50: Progetto2 | D50: 0 | G50: =IF(E50="SI",D50,0) -> 0
B51: Progetto3 | D51: 0 | G51: =IF(E51="SI",D51,0) -> 0
B52: Progetto4 | D52: 0 | G52: =IF(E52="SI",D52,0) -> 0
B53: Progetto5 | D53: 0 | G53: =IF(E53="SI",D53,0) -> 0
B54: Progetto6 | D54: 0 | G54: =IF(E54="SI",D54,0) -> 0
B55: Progetto7 | D55: 0 | G55: =IF(E55="SI",D55,0) -> 0
C56: Totale ore progetti | D56: =SUM(D49:D55) -> 0 | G56: =SUM(G49:G55) -> 0
C58: Ore annuali totali di Formazione Scuola-Lavoro (FSL) ore totali annualità) | F58: Di cui eventuali ore annuali di FSL effettuate al di fuori dell'orario settimanale (D40) e al di fuori del calendario scolastico di cui alla D58
C61: N. settimane previste dal calendario scolastico di progetto
C63: Area generale + indirizzo (ore) | D63: =D42*D61 -> 0 | E63: annue
C65: Altri progetti/attività curricolari (ore) | D65: =D56 -> 0 | E65: annue
C67: FSL (ore) | D67: =G58 -> 0 | E67: annue
B69: TOTALE GENERALE ANNUO (ore fruite dagli studenti) | D69: =D63+D65+D67 -> 0

Sheet III anno
B1: Quadro orario ed organico proposta progettuale a.s. 2027-2028 | T1: SI
B2: N.B. Per la compilazione si raccomanda di visualizzare i commenti inseriti nelle intestazioni di colonna DEVONO essere compilate esclusivamente le celle evidenziate con il colore verde Si prega di NON modificare o cancellare nessuna cella dei fogli di calcolo | T2: NO
B3: III ANNO ORE SETTIMANALI EROGATE | D3: Denominazione Istituzione Scolastica | H3: Denominazione indirizzo quadriennale | K3: Codice indirizzo quadriennale
A4: A. | B4: Area generale | H4: Articolazione/ Declinazione | K4: Codice ATECO | M4: Eventuali interventi (in ore settimanali) di esperti esterni in attività curricolari
B5: Denominazione | D5: Docenza cattedra (ore) | E5: Classe di Concorso (A) | F5: Compresenza ordinamentale (ITP) | G5: Classe di Concorso (B) | H5: Codocenza non ordinamentale (proposta progettuale) | I5: Classe di Concorso (A o B) | J5: Totale Organico (h settimanali) | K5: Note | M5: Compresenti | N5: 'titolari' singoli di insegnamento
B6: Inserire la denominazione corretta e completa di tutte le discipline previste nell’area generale del proprio percorso di studi. | D6: Inserire il numero di ore settimanale previsto per la corrispondente disciplina. | E6: Inserire il numero di ore settimanale previsto per la corrispondente disciplina. | F6: Inserire il numero di ore settimanale previsto per la corrispondente disciplina. | G6: Inserire la classe di concorso di insegnate tecnico pratico, prevista per la corrispondente disciplina. | H6: Inserire eventuali ore di codocenza frutto della specifica proposta progettuale. | I6: Trattandosi di ore non ordinamentali, ma maturate dalla proposta progettuale, possono essere svolte da docenti posto ordinario (c.c. A) sia da Insegnanti Tecnico Pratici (c.c. B). | N6: Laddove non compresenti.
B7: Disciplina 1 | D7: 0 | F7: 0 | H7: 0 | J7: =D7+F7+H7 -> 0
B8: Disciplina 2 | D8: 0 | F8: 0 | H8: 0 | J8: =D8+F8+H8 -> 0
B9: Disciplina 3 | D9: 0 | F9: 0 | H9: 0 | J9: =D9+F9+H9 -> 0
B10: Disciplina 4 | D10: 0 | F10: 0 | H10: 0 | J10: =D10+F10+H10 -> 0
B11: Disciplina 5 | D11: 0 | F11: 0 | H11: 0 | J11: =D11+F11+H11 -> 0
B12: Disciplina 6 | D12: 0 | F12: 0 | H12: 0 | J12: =D12+F12+H12 -> 0
B13: Disciplina 7 | D13: 0 | F13: 0 | H13: 0 | J13: =D13+F13+H13 -> 0
B14: Disciplina 8 | D14: 0 | F14: 0 | H14: 0 | J14: =D14+F14+H14 -> 0
B15: Disciplina 9 | D15: 0 | F15: 0 | H15: 0 | J15: =D15+F15+H15 -> 0
B16: Disciplina 10 | D16: 0 | F16: 0 | H16: 0 | J16: =D16+F16+H16 -> 0
B17: Disciplina 11 | D17: 0 | F17: 0 | H17: 0 | J17: =D17+F17+H17 -> 0
B18: Disciplina 12 | D18: 0 | F18: 0 | H18: 0 | J18: =D18+F18+H18 -> 0
... B20: Disciplina 14 | D20: 0 | F20: 0 | H20: 0 | J20: =D20+F20+H20 -> 0
C21: Totale area generale | D21: =SUM(D7:D20) -> 0 | F21: =SUM(F7:F20) -> 0 | H21: =SUM(H7:H20) -> 0 | J21: =D21+F21+H21 -> 0 | M21: =SUM(M7:M20) -> 0 | N21: =SUM(N7:N20) -> 0
A23: B. | B23: Area indirizzo | M23: Eventuali interventi (in ore settimanali) di esperti esterni in attività curricolari
B24: Denominazione | D24: Docenza cattedra (ore) | E24: Classe di Concorso (A o B) | F24: Compresenza ordinamentale (ITP) | G24: Classe di Concorso (B) | H24: Codocenza non ordinamentale (proposta progettuale) | I24: Classe di Concorso (A o B) | J24: Totale Organico (h settimanali) | K24: Note | M24: Compresenti | N24: 'titolari' singoli di insegnamento
B25: Inserire la denominazione corretta e completa di tutte le discipline previste nell’area di indirizzo del proprio percorso di studi. | D25: Inserire il numero di ore settimanale previsto per la corrispondente disciplina. | E25: Inserire il numero di ore settimanale previsto per la corrispondente disciplina. | F25: Inserire il numero di ore settimanale previsto per la corrispondente disciplina. | G25: Inserire la classe di concorso di insegnate tecnico pratico, prevista per la corrispondente disciplina. | H25: Inserire eventuali ore di codocenza frutto della specifica proposta progettuale. | I25: Trattandosi di ore non ordinamentali, ma maturate dalla proposta progettuale, possono essere svolte da docenti posto ordinario (c.c. A) sia da Insegnanti Tecnico Pratici (c.c. B). | N25: Laddove non compresenti.
B26: Disciplina 1 | D26: 0 | F26: 0 | H26: 0 | J26: =D26+F26+H26 -> 0
B27: Disciplina 2 | D27: 0 | F27: 0 | H27: 0 | J27: =D27+F27+H27 -> 0
B28: Disciplina 3 | D28: 0 | F28: 0 | H28: 0 | J28: =D28+F28+H28 -> 0
B29: Disciplina 4 | D29: 0 | F29: 0 | H29: 0 | J29: =D29+F29+H29 -> 0
B30: Disciplina 5 | D30: 0 | F30: 0 | H30: 0 | J30: =D30+F30+H30 -> 0
B31: Disciplina 6 | D31: 0 | F31: 0 | H31: 0 | J31: =D31+F31+H31 -> 0
B32: Disciplina 7 | D32: 0 | F32: 0 | H32: 0 | J32: =D32+F32+H32 -> 0
B33: Disciplina 8 | D33: 0 | F33: 0 | H33: 0 | J33: =D33+F33+H33 -> 0
B34: Disciplina 9 | D34: 0 | F34: 0 | H34: 0 | J34: =D34+F34+H34 -> 0
B35: Disciplina 10 | D35: 0 | F35: 0 | H35: 0 | J35: =D35+F35+H35 -> 0
B36: Disciplina 11 | D36: 0 | F36: 0 | H36: 0 | J36: =D36+F36+H36 -> 0
B37: Disciplina 12 | D37: 0 | F37: 0 | H37: 0 | J37: =D37+F37+H37 -> 0
... B39: Disciplina 14 | D39: 0 | F39: 0 | H39: 0 | J39: =D39+F39+H39 -> 0
C40: Totale area indirizzo | D40: =SUM(D26:D39) -> 0 | F40: =SUM(F26:F39) -> 0 | H40: =SUM(H26:H39) -> 0 | J40: =SUM(J26:J39) -> 0 | M40: =SUM(M26:M39) -> 0 | N40: =SUM(N26:N39) -> 0
C42: Totale ore settimanali (area generale e indirizzo) erogate (didattica fruita dagli studenti) | D42: =D21+D40 -> 0 | J42: =J40+J21 -> 0 | K42: TOTALE ORGANICO Totale ore settimanali per la prima annualità (al netto dei progetti di filiera)
A45: C. | B45: Eventuali ulteriori attività curricolari (aggiuntive rispetto a quelle riportate sopra)
D46: Ulteriori ORE ANNUE EROGATE (ulteriori rispetto a orario didattico settimanale fisso di cui sopra)
B47: Progetti/Attività | D47: Ore totali nell'annualità | E47: Serve organico dedicato (SI/NO) | F47: Se sì: Classe di Concorso (A o B) | G47: Ore annuali organico | H47: Note
D48: Se realizzati con ore di organico in assegnazione avere cura che i totali siano multipli di 33.
B49: Progetto1 | D49: 0 | G49: =IF(E49="SI",D49,0) -> 0
B50: Progetto2 | D50: 0 | G50: =IF(E50="SI",D50,0) -> 0
B51: Progetto3 | D51: 0 | G51: =IF(E51="SI",D51,0) -> 0
B52: Progetto4 | D52: 0 | G52: =IF(E52="SI",D52,0) -> 0
B53: Progetto5 | D53: 0 | G53: =IF(E53="SI",D53,0) -> 0
B54: Progetto6 | D54: 0 | G54: =IF(E54="SI",D54,0) -> 0
B55: Progetto7 | D55: 0 | G55: =IF(E55="SI",D55,0) -> 0
C56: Totale ore progetti | D56: =SUM(D49:D55) -> 0 | G56: =SUM(G49:G55) -> 0
C58: Ore annuali totali di Formazione Scuola-Lavoro (FSL) ore totali annualità) | F58: Di cui eventuali ore annuali di FSL effettuate al di fuori dell'orario settimanale (D40) e al di fuori del calendario scolastico di cui alla D58
C61: N. settimane previste dal calendario scolastico di progetto
C63: Area generale + indirizzo (ore) | D63: =D42*D61 -> 0 | E63: annue
C65: Altri progetti/attività curricolari (ore) | D65: =D56 -> 0 | E65: annue
C67: FSL (ore) | D67: =G58 -> 0 | E67: annue
B69: TOTALE GENERALE ANNUO (ore fruite dagli studenti) | D69: =D63+D65+D67 -> 0

Sheet IV anno
B1: Quadro orario ed organico proposta progettuale a.s. 2027-2028 | T1: SI
B2: N.B. Per la compilazione si raccomanda di visualizzare i commenti inseriti nelle intestazioni di colonna DEVONO essere compilate esclusivamente le celle evidenziate con il colore verde Si prega di NON modificare o cancellare nessuna cella dei fogli di calcolo | T2: NO
B3: IV ANNO ORE SETTIMANALI EROGATE | D3: Denominazione Istituzione Scolastica | H3: Denominazione indirizzo quadriennale | K3: Codice indirizzo quadriennale
A4: A. | B4: Area generale | H4: Articolazione/ Declinazione | K4: Codice ATECO | M4: Eventuali interventi (in ore settimanali) di esperti esterni in attività curricolari
B5: Denominazione | D5: Docenza cattedra (ore) | E5: Classe di Concorso (A) | F5: Compresenza ordinamentale (ITP) | G5: Classe di Concorso (B) | H5: Codocenza non ordinamentale (proposta progettuale) | I5: Classe di Concorso (A o B) | J5: Totale Organico (h settimanali) | K5: Note | M5: Compresenti | N5: 'titolari' singoli di insegnamento
B6: Inserire la denominazione corretta e completa di tutte le discipline previste nell’area generale del proprio percorso di studi. | D6: Inserire il numero di ore settimanale previsto per la corrispondente disciplina. | E6: Inserire il numero di ore settimanale previsto per la corrispondente disciplina. | F6: Inserire il numero di ore settimanale previsto per la corrispondente disciplina. | G6: Inserire la classe di concorso di insegnate tecnico pratico, prevista per la corrispondente disciplina. | H6: Inserire eventuali ore di codocenza frutto della specifica proposta progettuale. | I6: Trattandosi di ore non ordinamentali, ma maturate dalla proposta progettuale, possono essere svolte da docenti posto ordinario (c.c. A) sia da Insegnanti Tecnico Pratici (c.c. B). | N6: Laddove non compresenti.
B7: Disciplina 1 | D7: 0 | F7: 0 | H7: 0 | J7: =D7+F7+H7 -> 0
B8: Disciplina 2 | D8: 0 | F8: 0 | H8: 0 | J8: =D8+F8+H8 -> 0
B9: Disciplina 3 | D9: 0 | F9: 0 | H9: 0 | J9: =D9+F9+H9 -> 0
B10: Disciplina 4 | D10: 0 | F10: 0 | H10: 0 | J10: =D10+F10+H10 -> 0
B11: Disciplina 5 | D11: 0 | F11: 0 | H11: 0 | J11: =D11+F11+H11 -> 0
B12: Disciplina 6 | D12: 0 | F12: 0 | H12: 0 | J12: =D12+F12+H12 -> 0
B13: Disciplina 7 | D13: 0 | F13: 0 | H13: 0 | J13: =D13+F13+H13 -> 0
B14: Disciplina 8 | D14: 0 | F14: 0 | H14: 0 | J14: =D14+F14+H14 -> 0
B15: Disciplina 9 | D15: 0 | F15: 0 | H15: 0 | J15: =D15+F15+H15 -> 0
B16: Disciplina 10 | D16: 0 | F16: 0 | H16: 0 | J16: =D16+F16+H16 -> 0
B17: Disciplina 11 | D17: 0 | F17: 0 | H17: 0 | J17: =D17+F17+H17 -> 0
B18: Disciplina 12 | D18: 0 | F18: 0 | H18: 0 | J18: =D18+F18+H18 -> 0
... B20: Disciplina 14 | D20: 0 | F20: 0 | H20: 0 | J20: =D20+F20+H20 -> 0
C21: Totale area generale | D21: =SUM(D7:D20) -> 0 | F21: =SUM(F7:F20) -> 0 | H21: =SUM(H7:H20) -> 0 | J21: =D21+F21+H21 -> 0 | M21: =SUM(M7:M20) -> 0 | N21: =SUM(N7:N20) -> 0
A23: B. | B23: Area indirizzo | M23: Eventuali interventi (in ore settimanali) di esperti esterni in attività curricolari
B24: Denominazione | D24: Docenza cattedra (ore) | E24: Classe di Concorso (A o B) | F24: Compresenza ordinamentale (ITP) | G24: Classe di Concorso (B) | H24: Codocenza non ordinamentale (proposta progettuale) | I24: Classe di Concorso (A o B) | J24: Totale Organico (h settimanali) | K24: Note | M24: Compresenti | N24: 'titolari' singoli di insegnamento
B25: Inserire la denominazione corretta e completa di tutte le discipline previste nell’area di indirizzo del proprio percorso di studi. | D25: Inserire il numero di ore settimanale previsto per la corrispondente disciplina. | E25: Inserire il numero di ore settimanale previsto per la corrispondente disciplina. | F25: Inserire il numero di ore settimanale previsto per la corrispondente disciplina. | G25: Inserire la classe di concorso di insegnate tecnico pratico, prevista per la corrispondente disciplina. | H25: Inserire eventuali ore di codocenza frutto della specifica proposta progettuale. | I25: Trattandosi di ore non ordinamentali, ma maturate dalla proposta progettuale, possono essere svolte da docenti posto ordinario (c.c. A) sia da Insegnanti Tecnico Pratici (c.c. B). | N25: Laddove non compresenti.
B26: Disciplina 1 | D26: 0 | F26: 0 | H26: 0 | J26: =D26+F26+H26 -> 0
B27: Disciplina 2 | D27: 0 | F27: 0 | H27: 0 | J27: =D27+F27+H27 -> 0
B28: Disciplina 3 | D28: 0 | F28: 0 | H28: 0 | J28: =D28+F28+H28 -> 0
B29: Disciplina 4 | D29: 0 | F29: 0 | H29: 0 | J29: =D29+F29+H29 -> 0
B30: Disciplina 5 | D30: 0 | F30: 0 | H30: 0 | J30: =D30+F30+H30 -> 0
B31: Disciplina 6 | D31: 0 | F31: 0 | H31: 0 | J31: =D31+F31+H31 -> 0
B32: Disciplina 7 | D32: 0 | F32: 0 | H32: 0 | J32: =D32+F32+H32 -> 0
B33: Disciplina 8 | D33: 0 | F33: 0 | H33: 0 | J33: =D33+F33+H33 -> 0
B34: Disciplina 9 | D34: 0 | F34: 0 | H34: 0 | J34: =D34+F34+H34 -> 0
B35: Disciplina 10 | D35: 0 | F35: 0 | H35: 0 | J35: =D35+F35+H35 -> 0
B36: Disciplina 11 | D36: 0 | F36: 0 | H36: 0 | J36: =D36+F36+H36 -> 0
B37: Disciplina 12 | D37: 0 | F37: 0 | H37: 0 | J37: =D37+F37+H37 -> 0
... B39: Disciplina 14 | D39: 0 | F39: 0 | H39: 0 | J39: =D39+F39+H39 -> 0
C40: Totale area indirizzo | D40: =SUM(D26:D39) -> 0 | F40: =SUM(F26:F39) -> 0 | H40: =SUM(H26:H39) -> 0 | J40: =SUM(J26:J39) -> 0 | M40: =SUM(M26:M39) -> 0 | N40: =SUM(N26:N39) -> 0
C42: Totale ore settimanali (area generale e indirizzo) erogate (didattica fruita dagli studenti) | D42: =D21+D40 -> 0 | J42: =J40+J21 -> 0 | K42: TOTALE ORGANICO Totale ore settimanali per la prima annualità (al netto dei progetti di filiera)
A45: C. | B45: Eventuali ulteriori attività curricolari (aggiuntive rispetto a quelle riportate sopra)
D46: Ulteriori ORE ANNUE EROGATE (ulteriori rispetto a orario didattico settimanale fisso di cui sopra)
B47: Progetti/Attività | D47: Ore totali nell'annualità | E47: Serve organico dedicato (SI/NO) | F47: Se sì: Classe di Concorso (A o B) | G47: Ore annuali organico | H47: Note
D48: Se realizzati con ore di organico in assegnazione avere cura che i totali siano multipli di 33.
B49: Progetto1 | D49: 0 | G49: =IF(E49="SI",D49,0) -> 0
B50: Progetto2 | D50: 0 | G50: =IF(E50="SI",D50,0) -> 0
B51: Progetto3 | D51: 0 | G51: =IF(E51="SI",D51,0) -> 0
B52: Progetto4 | D52: 0 | G52: =IF(E52="SI",D52,0) -> 0
B53: Progetto5 | D53: 0 | G53: =IF(E53="SI",D53,0) -> 0
B54: Progetto6 | D54: 0 | G54: =IF(E54="SI",D54,0) -> 0
B55: Progetto7 | D55: 0 | G55: =IF(E55="SI",D55,0) -> 0
C56: Totale ore progetti | D56: =SUM(D49:D55) -> 0 | G56: =SUM(G49:G55) -> 0
C58: Ore annuali totali di Formazione Scuola-Lavoro (FSL) ore totali annualità) | F58: Di cui eventuali ore annuali di FSL effettuate al di fuori dell'orario settimanale (D40) e al di fuori del calendario scolastico di cui alla D58
C61: N. settimane previste dal calendario scolastico di progetto
C63: Area generale + indirizzo (ore) | D63: =D42*D61 -> 0 | E63: annue
C65: Altri progetti/attività curricolari (ore) | D65: =D56 -> 0 | E65: annue
C67: FSL (ore) | D67: =G58 -> 0 | E67: annue
B69: TOTALE GENERALE ANNUO (ore fruite dagli studenti) | D69: =D63+D65+D67 -> 0

Sheet Monte ore
A1: Quadro orario PROPOSTA PROGETTUALE a.s. 2027-2028
A3: Codice indirizzo e denominazione del quinquennale di riferimento:
A6: ORE DI EROGAZIONE/DIDATTICA FRUITA DAGLI STUDENTI
B7: I anno | C7: II anno | D7: III anno | E7: IV anno
A8: BASE SETTIMANALE
A9: Totale generali | B9: ='I anno'!D21 -> 0 | C9: ='II anno'!D21 -> 0 | D9: ='III anno'!D21 -> 0 | E9: ='IV anno'!D21 -> 0
A10: Totale indirizzo | B10: ='I anno'!D40 -> 0 | C10: ='II anno'!D40 -> 0 | D10: ='III anno'!D40 -> 0 | E10: ='IV anno'!D40 -> 0
A11: Totale ore | B11: =SUM(B9:B10) -> 0 | C11: =SUM(C9:C10) -> 0 | D11: =SUM(D9:D10) -> 0 | E11: =SUM(E9:E10) -> 0
A13: BASE ANNUA
A14: Totale generali | B14: =B9*'I anno'!D61 -> 0 | C14: =C9*'II anno'!D61 -> 0 | D14: =D9*'III anno'!D61 -> 0 | E14: =E9*'IV anno'!D61 -> 0
A15: Totale indirizzo | B15: =B10*'I anno'!D61 -> 0 | C15: =C10*'II anno'!D61 -> 0 | D15: =D10*'III anno'!D61 -> 0 | E15: =E10*'IV anno'!D61 -> 0
A16: Progetti curricolari | B16: ='I anno'!D65 -> 0 | C16: ='II anno'!D65 -> 0 | D16: ='III anno'!D65 -> 0 | E16: ='IV anno'!D65 -> 0
A17: FSL | B17: ='I anno'!D67 -> 0 | C17: ='II anno'!D67 -> 0 | D17: ='III anno'!D67 -> 0 | E17: ='IV anno'!D67 -> 0
A18: Totale ore | B18: =SUM(B14:B17) -> 0 | C18: =SUM(C14:C17) -> 0 | D18: =SUM(D14:D17) -> 0 | E18: =SUM(E14:E17) -> 0 | G18: =SUM(B18:E18) -> 0 | I18: Il monteore annuo complessivamente fruito dagli studenti non dovrebbe essere inferiore all'85% del corrispondente monteore totale fruito nel percorso quinquennale.
A21: ORE ORGANICO
B22: I anno | C22: II anno | D22: III anno | E22: IV anno
A23: Totale generali | B23: ='I anno'!J21 -> 0 | C23: ='II anno'!J21 -> 0 | D23: ='III anno'!J21 -> 0 | E23: ='IV anno'!J21 -> 0
A24: compresenze-codocenze innovative | B24: ='I anno'!H21 -> 0 | C24: ='II anno'!H21 -> 0 | D24: ='III anno'!H21 -> 0 | E24: ='IV anno'!H21 -> 0
A25: compresenze ordinamentali ordinarie (confermate o modificate) | B25: ='I anno'!F21 -> 0 | C25: ='II anno'!F21 -> 0 | D25: ='III anno'!F21 -> 0 | E25: ='IV anno'!F21 -> 0
A27: Totale indirizzo | B27: ='I anno'!J40 -> 0 | C27: ='II anno'!J40 -> 0 | D27: ='III anno'!J40 -> 0 | E27: ='IV anno'!J40 -> 0
A28: compresenze-codocenze innovative | B28: ='I anno'!H40 -> 0 | C28: ='II anno'!H40 -> 0 | D28: ='III anno'!H40 -> 0 | E28: ='IV anno'!H40 -> 0
A29: compresenze ordinamentali ordinarie (confermate o modificate) | B29: ='I anno'!F40 -> 0 | C29: ='II anno'!F40 -> 0 | D29: ='III anno'!F40 -> 0 | E29: ='IV anno'!F40 -> 0
A30: Totale organico progetti | B30: ='I anno'!G56 -> 0 | C30: ='II anno'!G56 -> 0 | D30: ='III anno'!G56 -> 0 | E30: ='IV anno'!G56 -> 0
A31: Totale ore | B31: =(SUM(B23+B27)*'I anno'!D61)+B30 -> 0 | C31: =SUM(C23+C27)*'II anno'!D61+C30 -> 0 | D31: =SUM(D23+D27)*'III anno'!D61+D30 -> 0 | E31: =SUM(E23+E27)*'IV anno'!D61+E30 -> 0 | G31: =SUM(B31:E31) -> 0 | I31: La dotazione organica complessiva richiesta non deve essere superiore a quella prevista dal corrispondente percorso quinquennale.
B36: = dati in ingresso collegati ai totali dei fogli delle singole annualità

Sheet Riferimenti&C.C.
A1: Quadro orario ordinamentale QUINQUENNALE
A3: Riferimenti normativi | T3: Classi Concorso aggiornate al DM 255/2023
A4: Per gli Istituti Tecnici: D.M. 19 febbraio 2026, n.29 ed eventuali successive integrazioni
B5: Allegato B: quadro orario dell'area di istruzione generale nazionale
B6: Allegati da C1 a C11: quadro orario dell'area di indirizzo flessibile degli indirizzi di studio e relative articolazioni
B7: https://www.mim.gov.it/-/decreto-ministeriale-n-29-del-19-febbraio-2026
B8: D.M. 29 aprile 2026, n.71
B9: Individuazione delle classi di concorso dei nuovi quadri orari di cui al D.M. 19 febbraio 2026, n. 29.
B10: https://www.mim.gov.it/-/decreto-ministeriale-n-71-del-29-aprile-2026
A12: Per gli Istituti Professionali: D.I. 24 maggio 2018, n. 92
B13: Allegati da 3A a 3M: quadri orari istituti professionali
B14: https://www.istruzioneer.gov.it/wp-content/uploads/2019/02/d_intermin_92.pdf
B15: D.M. 12 giugno 2020, n.33
B16: Individuazione delle classi di concorso per le discipline di riferimento e gli insegnamenti dei nuovi percorsi di istruzione professionale
B17: https://www.mim.gov.it/-/individuazione-delle-classi-di-concorso-per-le-discipline-di-riferimento-e-gli-insegnamenti-dei-nuovi-percorsi-di-istruzione-professionale
B22: Classi di concorso aggiornate al DM 255/2023
B23: AS01 | C23: Disegno e storia dell'arte nell'istruzione secondaria di II grado
B24: A-02 | C24: Design dei metalli, dell'oreficeria, delle pietre dure e delle gemme
B25: A-03 | C25: Design della ceramica
B26: A-04 | C26: Design del libro
B27: A-05 | C27: Design del tessuto e della moda
B28: A-06 | C28: Design del vetro
B29: A-07 | C29: Discipline Audiovisive
B30: A-08 | C30: Discipline geometriche, architettura, design d'arredamento e scenotecnica
B31: A-09 | C31: Discipline grafiche, pittoriche e scenografiche
B32: A-10 | C32: Discipline grafico-pubblicitarie
B33: A-11 | C33: Discipline letterarie e latino
B34: AS12 | C34: Discipline letterarie nell'istruzione secondaria di II grado
... B116: IRC | C116: Insegnamento della religione cattolica
